BEGIN:VCALENDAR
VERSION:2.0
PRODID:-//Orsett Showground - ECPv6.15.20//NONSGML v1.0//EN
CALSCALE:GREGORIAN
METHOD:PUBLISH
X-WR-CALNAME:Orsett Showground
X-ORIGINAL-URL:https://orsettshowground.co.uk
X-WR-CALDESC:Events for Orsett Showground
REFRESH-INTERVAL;VALUE=DURATION:PT1H
X-Robots-Tag:noindex
X-PUBLISHED-TTL:PT1H
BEGIN:VTIMEZONE
TZID:UTC
BEGIN:STANDARD
TZOFFSETFROM:+0000
TZOFFSETTO:+0000
TZNAME:UTC
DTSTART:20240101T000000
END:STANDARD
END:VTIMEZONE
BEGIN:VEVENT
DTSTART;TZID=UTC:20250628T120000
DTEND;TZID=UTC:20250629T220000
DTSTAMP:20260420T192419
CREATED:20250506T074755Z
LAST-MODIFIED:20250506T074755Z
UID:431-1751112000-1751234400@orsettshowground.co.uk
SUMMARY:High Octane Family Fest Weekender
DESCRIPTION:Orsett\, we’re coming for you this summer! 🎈🔥\nJoin us for our Family Fest Weekender on 28th & 29th June at Orsett Showground for a weekend of full-throttle family fun!\nExpect an amazing mix of live music\, motorbike stunt shows\, and of course\, our famous hot air balloon displays and night glow shows lighting up the sky. There’ll be loads to do all day long – from interactive family entertainment and character appearances to a buzzing funfair and inflatables for the kids.\nYou’ll also find a great range of food and drink vendors on site\, with something for everyone – whether you’re after a quick bite\, a cold pint\, or something a bit more indulgent.\nThis is a weekend that’s all about making memories with the people you love – whether you’re here for the thrill of the stunt bikes or just to see the balloons glow at sunset.\n📍 Orsett Showground\, RM16 3JU\n📅 Saturday 28th & Sunday 29th June 2025\n🕛 12pm – 10pm daily\nTickets are on sale now – and they’re moving fast.
URL:https://orsettshowground.co.uk/event/high-octane-family-fest-weekender/
LOCATION:Orsett Showground
ATTACH;FMTTYPE=image/jpeg:https://orsettshowground.co.uk/wp-content/uploads/2025/05/490700621_122224805414187759_67761274130571953_n.jpg
ORGANIZER;CN="RA Monster Events":MAILTO:enquirys@ramonsterevents.com
END:VEVENT
BEGIN:VEVENT
DTSTART;VALUE=DATE:20250517
DTEND;VALUE=DATE:20250519
DTSTAMP:20260420T192419
CREATED:20250506T073924Z
LAST-MODIFIED:20250506T073924Z
UID:424-1747440000-1747612799@orsettshowground.co.uk
SUMMARY:MotorFest
DESCRIPTION:The Monster Trucks are rolling into Orsett Showground !\n📅 17th & 18th May 2025\n🕙 10:00am – 8:00pm\nThink thundering engines\, massive jumps\, and monster-sized stunts as these beasts on wheels tear up the arena. It’s loud\, it’s fast\, and it’s pure\, edge-of-your-seat action!\nBut it’s not just about the trucks – we’ve got:\n🎡 A huge fairground full of rides and family fun\n🍔 Top-notch food stalls and bars to keep you fuelled\n🎢 High-energy stunt shows and jaw-dropping performances\nBring the kids\, rally your mates\, and make a day of it. This is motorsport mayhem you won’t want to miss! \nGET YOUR TICKETS NOW
URL:https://orsettshowground.co.uk/event/motorfest/
LOCATION:Orsett Showground
ATTACH;FMTTYPE=image/jpeg:https://orsettshowground.co.uk/wp-content/uploads/2025/05/481705016_122197895582252533_1836423693445392631_n.jpg
ORGANIZER;CN="RA Monster Events":MAILTO:enquirys@ramonsterevents.com
END:VEVENT
END:VCALENDAR