BEGIN:VCALENDAR
VERSION:2.0
PRODID:-//Orsett Showground - ECPv6.15.20//NONSGML v1.0//EN
CALSCALE:GREGORIAN
METHOD:PUBLISH
X-WR-CALNAME:Orsett Showground
X-ORIGINAL-URL:https://orsettshowground.co.uk
X-WR-CALDESC:Events for Orsett Showground
REFRESH-INTERVAL;VALUE=DURATION:PT1H
X-Robots-Tag:noindex
X-PUBLISHED-TTL:PT1H
BEGIN:VTIMEZONE
TZID:UTC
BEGIN:STANDARD
TZOFFSETFROM:+0000
TZOFFSETTO:+0000
TZNAME:UTC
DTSTART:20240101T000000
END:STANDARD
END:VTIMEZONE
BEGIN:VEVENT
DTSTART;VALUE=DATE:20250713
DTEND;VALUE=DATE:20250714
DTSTAMP:20260420T192051
CREATED:20230606T084139Z
LAST-MODIFIED:20250603T125209Z
UID:377-1752364800-1752451199@orsettshowground.co.uk
SUMMARY:Classic & Vintage Car show
DESCRIPTION:Orsett Classic & Vintage Show Sunday 13th July 2025\nOrsett Showground\, Rectory Road\, Orsett\, Essex RM16 3JN \nIf you need to contact the organiser please email info@haddonevents.co.uk\nOr call 07519276507 \n **   Now in it’s 13th year  **\nBUY TICKETS\nOrsett Classic Car Show & Family Festival\nSunday 13 July 2025 10:00\nOrsett Showground\nA great family day out and a must for vintage lovers.. Enjoy the welcoming\, fun atmosphere that Haddon Events pride themselves on. Expect hundreds of classic\, vintage & custom cars\, bikes\, scooters\, trucks and oddities which make the event so special. We will again be supporting Havens Hospices. Featuring classic and vintage cars\, monster truck rides\, live wrestling\, vintage stalls\, shopping\, trade stands and autojumble\, live music\, dance displays\, kids area\, children’s rides and games\, superheroes\, street food and licensed bar. There will be something to make everybody happy\, from the young to the not so young.\n*  Hundreds of classic vehicles\n*  Live music\n​*  Dance displays and Rock ‘n’ Roll Groups\n*  Large vintage market\n​*  Vintage hair & makeup\n*  Trade stands\n*  Autojumble\n*  Monster Truck rides\n*  Live Wrestling\n*  Superheroes\n*  Licenced Bar\n*  Street Food\n*  Hot & cold drinks\n​*  Children’s rides \n10am – 5pm Free parking\, dogs welcome on a lead.
URL:https://orsettshowground.co.uk/event/haddon-car-show/
LOCATION:Orsett Showground
ATTACH;FMTTYPE=image/avif:https://orsettshowground.co.uk/wp-content/uploads/2023/06/https___cdn.evbuc_.com_images_997644593_195284202005_1_original.avif
END:VEVENT
BEGIN:VEVENT
DTSTART;TZID=UTC:20260516T100000
DTEND;TZID=UTC:20260517T193000
DTSTAMP:20260420T192051
CREATED:20260318T102520Z
LAST-MODIFIED:20260318T102520Z
UID:445-1778925600-1779046200@orsettshowground.co.uk
SUMMARY:MONSTER TRUCK MOTORFEST
DESCRIPTION:🚨 ESSEX… MONSTER TRUCK MOTORFEST IS COMING! 🚨 \nGet ready for a FULL WEEKEND of roaring engines\, extreme stunts and unforgettable family entertainment at Orsett Showground 💥 \n🛻 Slingshot Monster Truck tearing up the arena \n🏍 Flyin Ryan high-energy stunt bike action \n🚗 Stuntshowsuk – cars\, bikes & quad stunt displays \n💥 World Champion Steve Colley trials bike stunts \n🎤 Ms Rachel Tribute Act for younger children \n🎡 Funfair • 🍔 Food Village • 🎶 Live Music \n🎟 FREE TICKET CODE AVAILABLE – LIMITED USE \n📅 Saturday 16th & Sunday 17th May 2026 \n🕘 Saturday: 10am–10:30pm | Sunday: 10am–7:30pm \n📍 Orsett Showground\, Essex \n👉 Book tickets now: \nMonster Truck Motorfest Essex \n \n🔥 BIGGER. LOUDER. MORE ACTION THAN EVER BEFORE!
URL:https://orsettshowground.co.uk/event/monster-truck-motorfest/
LOCATION:Orsett Showground
ATTACH;FMTTYPE=image/jpeg:https://orsettshowground.co.uk/wp-content/uploads/2026/03/post-1-square-1-scaled.jpg
ORGANIZER;CN="RA Monster Events":MAILTO:enquirys@ramonsterevents.com
END:VEVENT
BEGIN:VEVENT
DTSTART;VALUE=DATE:20260905
DTEND;VALUE=DATE:20260906
DTSTAMP:20260420T192051
CREATED:20230311T025533Z
LAST-MODIFIED:20260318T103035Z
UID:270-1788566400-1788652799@orsettshowground.co.uk
SUMMARY:Orsett Show
DESCRIPTION:Get ready for a fun-filled day celebrating agriculture\, countryside living\, and community spirit! \nThe renowned Orsett Show returns for its 118th edition on\, September 5th\, 2026. This one-day event\, steeped in tradition\, promises a delightful experience for the whole family.\nAt our farm and country show\, you will find marquees featuring exhibitions and displays for agricultural\, horticultural & livestock farmers.  You’ll also find displays in our ‘Hobbies & Handicrafts’ marquee where hobbyist crafters display their handcrafted items. \nYou can also visit our farmers market at ‘The Pantry’ and check out one or more of the vendors selling fresh farm produce\, or visit our craft fair where you can purchase hand crafted items from our artisan or hobbyist crafters. This years trade village is not to be missed either\, with offers and promotions of a range of business sectors\, you may just find something that interests you.
URL:https://orsettshowground.co.uk/event/orsett-show/
LOCATION:Orsett Showground
ATTACH;FMTTYPE=image/webp:https://orsettshowground.co.uk/wp-content/uploads/2023/03/cattle-juding.webp
END:VEVENT
END:VCALENDAR